BEGIN:VCALENDAR
VERSION:2.0
PRODID:-//macogop.org - ECPv6.15.20//NONSGML v1.0//EN
CALSCALE:GREGORIAN
METHOD:PUBLISH
X-WR-CALNAME:macogop.org
X-ORIGINAL-URL:https://macogop.org
X-WR-CALDESC:Events for macogop.org
REFRESH-INTERVAL;VALUE=DURATION:PT1H
X-Robots-Tag:noindex
X-PUBLISHED-TTL:PT1H
BEGIN:VTIMEZONE
TZID:UTC
BEGIN:STANDARD
TZOFFSETFROM:+0000
TZOFFSETTO:+0000
TZNAME:UTC
DTSTART:20250101T000000
END:STANDARD
END:VTIMEZONE
BEGIN:VEVENT
DTSTART;VALUE=DATE:20260626
DTEND;VALUE=DATE:20260629
DTSTAMP:20260422T055538
CREATED:20250626T040013Z
LAST-MODIFIED:20260308T151556Z
UID:269-1782432000-1782691199@macogop.org
SUMMARY:Salt & Light 2026 Camping Ministries
DESCRIPTION:
URL:https://macogop.org/event/2025-camp/
LOCATION:Joy El-Camp\, 3741 Joy El Dr\, Greencastle\, PA\, 17225\, United States
ATTACH;FMTTYPE=image/jpeg:https://macogop.org/wp-content/uploads/2025/05/6944758118309154948.jpg
END:VEVENT
END:VCALENDAR